BEGIN:VCALENDAR
VERSION:2.0
PRODID:-//https://nsjg.budakeszi.hu//NONSGML kigkonsult.se iCalcreator 2.29
 .14//
CALSCALE:GREGORIAN
METHOD:PUBLISH
UID:2393afe5-05d5-4014-9b0c-e27a133c035a
X-WR-CALNAME:JCal Pro Calendar
X-WR-CALDESC:Your online events calendar
X-WR-TIMEZONE:Europe/Budapest
BEGIN:VTIMEZONE
TZID:Europe/Budapest
BEGIN:STANDARD
TZNAME:CET
DTSTART:20251026T030000
TZOFFSETFROM:+0200
TZOFFSETTO:+0100
RDATE:20261025T030000
END:STANDARD
BEGIN:DAYLIGHT
TZNAME:CEST
DTSTART:20260329T020000
TZOFFSETFROM:+0100
TZOFFSETTO:+0200
RDATE:20270328T020000
END:DAYLIGHT
END:VTIMEZONE
BEGIN:VEVENT
UID:20230316T100000CET-5907wvD45C@http://nsjg.budakeszi.hu/
DTSTAMP:20260425T190708Z
CATEGORIES:Verseny
DESCRIPTION:<p>Iskolai forduló</p>
DTSTART;TZID=Europe/Budapest:20260319T100000
DTEND;TZID=Europe/Budapest:20260319T100000
SUMMARY:Kenguru matematikaverseny
URL:https://nsjg.budakeszi.hu/123-verseny/181-kenguru-matematikaverseny
X-ALT-DESC;FMTTYPE=TEXT/HTML:<p>Iskolai forduló</p>
END:VEVENT
END:VCALENDAR
