BEGIN:VCALENDAR
VERSION:2.0
PRODID:-//https://nsjg.budakeszi.hu//NONSGML kigkonsult.se iCalcreator 2.29
 .14//
CALSCALE:GREGORIAN
METHOD:PUBLISH
UID:10b56cc8-27eb-4057-a9b8-5e4a15f1c97f
X-WR-CALNAME:JCal Pro Calendar
X-WR-CALDESC:Your online events calendar
X-WR-TIMEZONE:Europe/Budapest
BEGIN:VTIMEZONE
TZID:Europe/Budapest
BEGIN:STANDARD
TZNAME:CET
DTSTART:20251026T030000
TZOFFSETFROM:+0200
TZOFFSETTO:+0100
RDATE:20261025T030000
END:STANDARD
BEGIN:DAYLIGHT
TZNAME:CEST
DTSTART:20260329T020000
TZOFFSETFROM:+0100
TZOFFSETTO:+0200
RDATE:20270328T020000
END:DAYLIGHT
END:VTIMEZONE
BEGIN:VTIMEZONE
TZID:UTC
END:VTIMEZONE
BEGIN:VEVENT
UID:20220309T080000CET-2506RtNC9C@http://nsjg.budakeszi.hu/
DTSTAMP:20260425T211956Z
CATEGORIES:Esemény
DESCRIPTION:<p>11-12.: délutáni programok\, 13. csütörtök: diákönkormányzat
  napja - vetélkedő</p>
DTSTART;TZID=Europe/Budapest:20260311T140000
DTEND;TZID=Europe/Budapest:20260313T140000
SUMMARY:NSJG-napok
URL:https://nsjg.budakeszi.hu/87-esemeny/157-nsjg-napok-szamok
X-ALT-DESC;FMTTYPE=TEXT/HTML:<p>11-12.: délutáni programok\, 13. csütörtök:
  diákönkormányzat napja - vetélkedő</p>
END:VEVENT
BEGIN:VEVENT
UID:20201025T220000CET-2066Iu9fXZ@http://nsjg.budakeszi.hu/
DTSTAMP:20260425T211956Z
CATEGORIES:Ünnep
DTSTART:20260313T080000Z
DTEND:20260313T080000Z
SUMMARY:Ünnepi megemlékezés az 1948/49-es forradalom és szabadságharcról
URL:https://nsjg.budakeszi.hu/121-unnep/72-unnepi-megemlekezes
END:VEVENT
BEGIN:VEVENT
UID:20201025T220000CET-8810GKjUGO@http://nsjg.budakeszi.hu/
DTSTAMP:20260425T211956Z
CATEGORIES:Esemény
DTSTART:20260313T170000Z
DTEND:20260313T170000Z
SUMMARY:Öregdiák találkozó
URL:https://nsjg.budakeszi.hu/87-esemeny/78-oregdiak-talalkozo
END:VEVENT
END:VCALENDAR
