BEGIN:VCALENDAR
VERSION:2.0
PRODID:-//https://nsjg.budakeszi.hu//NONSGML kigkonsult.se iCalcreator 2.29
 .14//
CALSCALE:GREGORIAN
METHOD:PUBLISH
UID:46a4e114-9604-4c70-841b-46666075ee8b
X-WR-CALNAME:JCal Pro Calendar
X-WR-CALDESC:Your online events calendar
X-WR-TIMEZONE:Europe/Budapest
BEGIN:VTIMEZONE
TZID:Europe/Budapest
BEGIN:STANDARD
TZNAME:CET
DTSTART:20251026T030000
TZOFFSETFROM:+0200
TZOFFSETTO:+0100
RDATE:20261025T030000
END:STANDARD
BEGIN:DAYLIGHT
TZNAME:CEST
DTSTART:20260329T020000
TZOFFSETFROM:+0100
TZOFFSETTO:+0200
RDATE:20270328T020000
END:DAYLIGHT
END:VTIMEZONE
BEGIN:VTIMEZONE
TZID:UTC
END:VTIMEZONE
BEGIN:VEVENT
UID:20260223T020000CET-2493zonUn4@https://nsjg.budakeszi.hu/
DTSTAMP:20260419T181917Z
CATEGORIES:Szünet
DTSTART;TZID=Europe/Budapest:20260223T000000
DTEND;TZID=Europe/Budapest:20260224T000000
SUMMARY:Tanításmentes munkanap
URL:https://nsjg.budakeszi.hu/118-szunet/201-tanitasmentes-munkanap
END:VEVENT
BEGIN:VEVENT
UID:20201025T220000CET-4240VHT8Zu@http://nsjg.budakeszi.hu/
DTSTAMP:20260419T181917Z
CATEGORIES:Ünnep
DESCRIPTION:<p>Osztályfőnöki órákon/rendhagyó történelem órán megemlékezés.
 </p>
DTSTART:20260225T080000Z
DTEND:20260225T080000Z
SUMMARY:A kommunizmus áldozatainak emléknapja
URL:https://nsjg.budakeszi.hu/121-unnep/65-a-kommunizmus-aldozatainak-emlek
 napja
X-ALT-DESC;FMTTYPE=TEXT/HTML:<p>Osztályfőnöki órákon/rendhagyó történelem ó
 rán megemlékezés.</p>
END:VEVENT
END:VCALENDAR
