BEGIN:VCALENDAR
VERSION:2.0
PRODID:-//https://nsjg.budakeszi.hu//NONSGML kigkonsult.se iCalcreator 2.29
 .14//
CALSCALE:GREGORIAN
METHOD:PUBLISH
UID:3e678e57-3527-42f2-9100-84d20a81412c
X-WR-CALNAME:JCal Pro Calendar
X-WR-CALDESC:Your online events calendar
X-WR-TIMEZONE:Europe/Budapest
BEGIN:VTIMEZONE
TZID:Europe/Budapest
BEGIN:STANDARD
TZNAME:CET
DTSTART:20251026T030000
TZOFFSETFROM:+0200
TZOFFSETTO:+0100
RDATE:20261025T030000
END:STANDARD
BEGIN:DAYLIGHT
TZNAME:CEST
DTSTART:20260329T020000
TZOFFSETFROM:+0100
TZOFFSETTO:+0200
RDATE:20270328T020000
END:DAYLIGHT
END:VTIMEZONE
BEGIN:VTIMEZONE
TZID:UTC
END:VTIMEZONE
BEGIN:VEVENT
UID:20250130T230000CET-2120Z1DzA7@https://nsjg.budakeszi.hu/
DTSTAMP:20260419T150403Z
CATEGORIES:Érettségi/8-os felvételi/egyéb vizsgák
DESCRIPTION:<p>A központi írásbeli felvételi dolgozatok javításával kapcsol
 atos észrevételek fogadása\, továbbítása.</p>
DTSTART;TZID=Europe/Budapest:20260202T160000
DTEND;TZID=Europe/Budapest:20260202T170000
SUMMARY:Központi írásbeli dolgozat: észrevételek
URL:https://nsjg.budakeszi.hu/124-erettsegi-8-os-felveteli-egyeb-vizsgak/19
 8-kozponti-irasbeli-dolgozat-eszrevetelek
X-ALT-DESC;FMTTYPE=TEXT/HTML:<p>A központi írásbeli felvételi dolgozatok ja
 vításával kapcsolatos észrevételek fogadása\, továbbítása.</p>
END:VEVENT
BEGIN:VEVENT
UID:20201025T220000CET-6381pPC7F3@http://nsjg.budakeszi.hu/
DTSTAMP:20260419T150403Z
CATEGORIES:Fogadóóra/szülői értekezlet
DESCRIPTION:<p>SZMK: 18:30</p>
DTSTART:20260202T173000Z
DTEND:20260202T183000Z
SUMMARY:Szülői értekezlet\, SZMK
URL:https://nsjg.budakeszi.hu/122-fogadoora-szuloi-ertekezlet/60-szuloi-ert
 ekezlet
X-ALT-DESC;FMTTYPE=TEXT/HTML:<p>SZMK: 18:30</p>
END:VEVENT
BEGIN:VEVENT
UID:20201025T220000CET-9433Am1KwH@http://nsjg.budakeszi.hu/
DTSTAMP:20260419T150403Z
CATEGORIES:Érettségi/8-os felvételi/egyéb vizsgák
DTSTART:20260204T140000Z
DTEND:20260204T160000Z
SUMMARY:Pótló központi írásbeli felvételi vizsgák
URL:https://nsjg.budakeszi.hu/124-erettsegi-8-os-felveteli-egyeb-vizsgak/57
 -potlo-kozponti-irasbeli-felveteli-vizsgak
END:VEVENT
END:VCALENDAR
