BEGIN:VCALENDAR
VERSION:2.0
PRODID:-//https://nsjg.budakeszi.hu//NONSGML kigkonsult.se iCalcreator 2.29
 .14//
CALSCALE:GREGORIAN
METHOD:PUBLISH
UID:8ec0a483-9c7a-4b00-ae2f-3f3c9c181cdb
X-WR-CALNAME:JCal Pro Calendar
X-WR-CALDESC:Your online events calendar
X-WR-TIMEZONE:Europe/Budapest
BEGIN:VTIMEZONE
TZID:Europe/Budapest
BEGIN:STANDARD
TZNAME:CET
DTSTART:20251026T030000
TZOFFSETFROM:+0200
TZOFFSETTO:+0100
RDATE:20261025T030000
END:STANDARD
BEGIN:DAYLIGHT
TZNAME:CEST
DTSTART:20260329T020000
TZOFFSETFROM:+0100
TZOFFSETTO:+0200
RDATE:20270328T020000
END:DAYLIGHT
END:VTIMEZONE
BEGIN:VTIMEZONE
TZID:UTC
END:VTIMEZONE
BEGIN:VEVENT
UID:20240408T110000CEST-93014be5EP@https://nsjg.budakeszi.hu/
DTSTAMP:20260419T182127Z
CATEGORIES:Érettségi/8-os felvételi/egyéb vizsgák
DTSTART;TZID=Europe/Budapest:20260401T110000
DTEND;TZID=Europe/Budapest:20260401T150000
SUMMARY:Matematika próbaérettségi
URL:https://nsjg.budakeszi.hu/124-erettsegi-8-os-felveteli-egyeb-vizsgak/19
 2-matematika-probaerettsegi
END:VEVENT
BEGIN:VEVENT
UID:20201025T230000CET-9199vnvW6i@http://nsjg.budakeszi.hu/
DTSTAMP:20260419T182127Z
CATEGORIES:Szünet
DTSTART:20260402T000000Z
DTEND:20260412T230000Z
SUMMARY:Tavaszi szünet
URL:https://nsjg.budakeszi.hu/118-szunet/82-tavaszi-szunet
END:VEVENT
BEGIN:VEVENT
UID:20201025T230000CET-0266ewVIpD@http://nsjg.budakeszi.hu/
DTSTAMP:20260419T182127Z
CATEGORIES:Érettségi/8-os felvételi/egyéb vizsgák
DESCRIPTION:<p>Osztályozó vizsgák az előrehozott érettségire jelentkezők sz
 ámára</p>
DTSTART:20260413T080000Z
DTEND:20260417T160000Z
SUMMARY:Tavaszi vizsgaidőszak
URL:https://nsjg.budakeszi.hu/124-erettsegi-8-os-felveteli-egyeb-vizsgak/86
 -tavaszi-vizsgaidoszak
X-ALT-DESC;FMTTYPE=TEXT/HTML:<p>Osztályozó vizsgák az előrehozott érettségi
 re jelentkezők számára</p>
END:VEVENT
BEGIN:VEVENT
UID:20201025T230000CET-635313IRaC@http://nsjg.budakeszi.hu/
DTSTAMP:20260419T182127Z
CATEGORIES:Fogadóóra/szülői értekezlet
DTSTART:20260413T173000Z
DTEND:20260413T183000Z
SUMMARY:Fogadóóra/fakultációs tájékoztatás
URL:https://nsjg.budakeszi.hu/122-fogadoora-szuloi-ertekezlet/92-fogadoora-
 fakultacios-tajekoztatas
END:VEVENT
BEGIN:VEVENT
UID:20201025T230000CET-72179TS4KK@http://nsjg.budakeszi.hu/
DTSTAMP:20260419T182127Z
CATEGORIES:Ünnep
DESCRIPTION:<p>Ezen a héten osztályfőnöki órák keretében megemlékezünk a ho
 locaust áldozatairól.</p>
DTSTART:20260416T080000Z
DTEND:20260416T080000Z
SUMMARY:Megemlékezés a holocaust áldozatairól
URL:https://nsjg.budakeszi.hu/121-unnep/87-megemlekezes-a-holocaust-aldozat
 airol
X-ALT-DESC;FMTTYPE=TEXT/HTML:<p>Ezen a héten osztályfőnöki órák keretében m
 egemlékezünk a holocaust áldozatairól.</p>
END:VEVENT
BEGIN:VEVENT
UID:20220405T080000CEST-3834t6UlIn@http://nsjg.budakeszi.hu/
DTSTAMP:20260419T182127Z
CATEGORIES:Verseny
DTSTART;TZID=Europe/Budapest:20260417T150000
DTEND;TZID=Europe/Budapest:20260417T160000
SUMMARY:Városi versünnep - Élő városi versmondó verseny
URL:https://nsjg.budakeszi.hu/123-verseny/161-varosi-versunnep-elo-varosi-v
 ersmondo-verseny
END:VEVENT
BEGIN:VEVENT
UID:20201025T230000CET-6061mvfIog@http://nsjg.budakeszi.hu/
DTSTAMP:20260419T182127Z
CATEGORIES:Ökoprogram
DTSTART:20260420T080000Z
DTEND:20260424T160000Z
SUMMARY:Fenntathatósági témahét
URL:https://nsjg.budakeszi.hu/120-okoprogram/89-fenntathatosagi-temahet
END:VEVENT
BEGIN:VEVENT
UID:20201025T230000CET-0950uHtwDj@http://nsjg.budakeszi.hu/
DTSTAMP:20260419T182127Z
CATEGORIES:Ökoprogram
DESCRIPTION:<p>Osztályvállalás: 10A</p>
DTSTART:20260422T080000Z
DTEND:20260422T080000Z
SUMMARY:A Föld napja
URL:https://nsjg.budakeszi.hu/120-okoprogram/88-a-fold-napja
X-ALT-DESC;FMTTYPE=TEXT/HTML:<p>Osztályvállalás: 10A</p>
END:VEVENT
BEGIN:VEVENT
UID:20201025T230000CET-6526F057Sf@http://nsjg.budakeszi.hu/
DTSTAMP:20260419T182127Z
CATEGORIES:Esemény
DTSTART:20260424T140000Z
DTEND:20260424T140000Z
SUMMARY:Jelentkezés fakultációra
URL:https://nsjg.budakeszi.hu/87-esemeny/90-jelentkezes-fakultaciora
END:VEVENT
BEGIN:VEVENT
UID:20201025T230000CET-8135hRAp25@http://nsjg.budakeszi.hu/
DTSTAMP:20260419T182127Z
CATEGORIES:Ünnep
DESCRIPTION:<p>4 tanóra órarend szerint</p>
DTSTART:20260430T150000Z
DTEND:20260430T160000Z
SUMMARY:Ballagás
URL:https://nsjg.budakeszi.hu/121-unnep/95-ballagas
X-ALT-DESC;FMTTYPE=TEXT/HTML:<p>4 tanóra órarend szerint</p>
END:VEVENT
END:VCALENDAR
