BEGIN:VCALENDAR
VERSION:2.0
PRODID:-//https://nsjg.budakeszi.hu//NONSGML kigkonsult.se iCalcreator 2.29
 .14//
CALSCALE:GREGORIAN
METHOD:PUBLISH
UID:7387626b-edbe-4b1b-8924-f0d80b162e84
X-WR-CALNAME:JCal Pro Calendar
X-WR-CALDESC:Your online events calendar
X-WR-TIMEZONE:Europe/Budapest
BEGIN:VTIMEZONE
TZID:Europe/Budapest
BEGIN:STANDARD
TZNAME:CET
DTSTART:20251026T030000
TZOFFSETFROM:+0200
TZOFFSETTO:+0100
RDATE:20261025T030000
END:STANDARD
BEGIN:DAYLIGHT
TZNAME:CEST
DTSTART:20260329T020000
TZOFFSETFROM:+0100
TZOFFSETTO:+0200
RDATE:20270328T020000
END:DAYLIGHT
END:VTIMEZONE
BEGIN:VTIMEZONE
TZID:UTC
END:VTIMEZONE
BEGIN:VEVENT
UID:20201026T000000CET-1137wCvZ3U@http://nsjg.budakeszi.hu/
DTSTAMP:20260419T200619Z
CATEGORIES:Esemény
DTSTART:20260604T080000Z
DTEND:20260604T090000Z
SUMMARY:Nemzeti összetartozás emléknapja
URL:https://nsjg.budakeszi.hu/87-esemeny/122-nemzeti-osszetartozas-emleknap
 ja
END:VEVENT
BEGIN:VEVENT
UID:20201025T220000CET-5814zt39wK@http://nsjg.budakeszi.hu/
DTSTAMP:20260419T200619Z
CATEGORIES:Esemény
DTSTART:20260616T080000Z
DTEND:20260616T120000Z
SUMMARY:Ökoprojektnap
URL:https://nsjg.budakeszi.hu/87-esemeny/73-osztalyok-kozotti-vetelkedo
END:VEVENT
BEGIN:VEVENT
UID:20240617T130000CEST-9559crUsKR@https://nsjg.budakeszi.hu/
DTSTAMP:20260419T200619Z
CATEGORIES:Esemény
DTSTART;TZID=Europe/Budapest:20260617T080000
DTEND;TZID=Europe/Budapest:20260618T140000
SUMMARY:Tanulmányi kirándulás (Tanításmentes munkanap)
URL:https://nsjg.budakeszi.hu/87-esemeny/194-kulso-helyszinen-levo-tanorak
END:VEVENT
BEGIN:VEVENT
UID:20201026T000000CET-9772A3iUVH@http://nsjg.budakeszi.hu/
DTSTAMP:20260419T200619Z
CATEGORIES:Esemény
DTSTART:20260619T080000Z
DTEND:20260619T140000Z
SUMMARY:Utolsó tanítási nap
URL:https://nsjg.budakeszi.hu/87-esemeny/127-utolso-tanitasi-nap
END:VEVENT
BEGIN:VEVENT
UID:20201026T000000CET-42929Ctd6d@http://nsjg.budakeszi.hu/
DTSTAMP:20260419T200619Z
CATEGORIES:Érettségi/8-os felvételi/egyéb vizsgák
DESCRIPTION:<p>12A</p>
DTSTART:20260622T080000Z
DTEND:20260624T180000Z
SUMMARY:Középszintű szóbeli érettségi vizsga I. bizottság
URL:https://nsjg.budakeszi.hu/124-erettsegi-8-os-felveteli-egyeb-vizsgak/13
 0-kozepszintu-szobeli-erettsegi-vizsga-12-b
X-ALT-DESC;FMTTYPE=TEXT/HTML:<p>12A</p>
END:VEVENT
BEGIN:VEVENT
UID:20201026T000000CET-7215iI2uZS@http://nsjg.budakeszi.hu/
DTSTAMP:20260419T200619Z
CATEGORIES:Ünnep
DTSTART:20260622T083000Z
DTEND:20260622T090000Z
SUMMARY:Tanévzáró ünnepély\, bizonyítványosztás
URL:https://nsjg.budakeszi.hu/121-unnep/128-tanevzaro-unnepely-bizonyitvany
 osztas
END:VEVENT
BEGIN:VEVENT
UID:20201026T000000CET-40166FAWlJ@http://nsjg.budakeszi.hu/
DTSTAMP:20260419T200619Z
CATEGORIES:Érettségi/8-os felvételi/egyéb vizsgák
DESCRIPTION:<p>12A</p>
DTSTART:20260625T080000Z
DTEND:20260627T180000Z
SUMMARY:Középszintű szóbeli érettségi vizsga II. bizottság
URL:https://nsjg.budakeszi.hu/124-erettsegi-8-os-felveteli-egyeb-vizsgak/12
 9-kozepszintu-szobeli-erettsegivizsga-12-a
X-ALT-DESC;FMTTYPE=TEXT/HTML:<p>12A</p>
END:VEVENT
BEGIN:VEVENT
UID:20201026T000000CET-83510rtw6I@http://nsjg.budakeszi.hu/
DTSTAMP:20260419T200619Z
CATEGORIES:Esemény
DTSTART:20260626T090000Z
DTEND:20260626T120000Z
SUMMARY:Beiratkozás
URL:https://nsjg.budakeszi.hu/87-esemeny/131-beiratkozas
END:VEVENT
END:VCALENDAR
