BEGIN:VCALENDAR
VERSION:2.0
PRODID:-//https://nsjg.budakeszi.hu//NONSGML kigkonsult.se iCalcreator 2.29
 .14//
CALSCALE:GREGORIAN
METHOD:PUBLISH
UID:87c2c0c3-3745-41aa-9046-9d0f3184bfb6
X-WR-CALNAME:JCal Pro Calendar
X-WR-CALDESC:Your online events calendar
X-WR-TIMEZONE:Europe/Budapest
BEGIN:VTIMEZONE
TZID:Europe/Budapest
BEGIN:STANDARD
TZNAME:CET
DTSTART:20251026T030000
TZOFFSETFROM:+0200
TZOFFSETTO:+0100
RDATE:20261025T030000
END:STANDARD
BEGIN:DAYLIGHT
TZNAME:CEST
DTSTART:20260329T020000
TZOFFSETFROM:+0100
TZOFFSETTO:+0200
RDATE:20270328T020000
END:DAYLIGHT
END:VTIMEZONE
BEGIN:VTIMEZONE
TZID:UTC
END:VTIMEZONE
BEGIN:VEVENT
UID:20201025T210000CET-3416k2CF48@http://nsjg.budakeszi.hu/
DTSTAMP:20260419T115857Z
CATEGORIES:Szünet
DESCRIPTION:<p>(5 munkanap)</p>
DTSTART:20251220T000000Z
DTEND:20260104T220000Z
SUMMARY:Téli szünet
URL:https://nsjg.budakeszi.hu/118-szunet/49-teli-szunet
X-ALT-DESC;FMTTYPE=TEXT/HTML:<p>(5 munkanap)</p>
END:VEVENT
BEGIN:VEVENT
UID:20260110T074500CET-8578c4vAeK@https://nsjg.budakeszi.hu/
DTSTAMP:20260419T115857Z
CATEGORIES:Esemény
DESCRIPTION:<p>Január 2-a helyett</p>
DTSTART;TZID=Europe/Budapest:20260110T074500
DTEND;TZID=Europe/Budapest:20260110T154500
SUMMARY:Áthelyezett munkanap - tanítási nap
URL:https://nsjg.budakeszi.hu/87-esemeny/199-athelyezett-munkanap-tanitasi-
 nap
X-ALT-DESC;FMTTYPE=TEXT/HTML:<p>Január 2-a helyett</p>
END:VEVENT
BEGIN:VEVENT
UID:20201019T150000UTC-7625IUenUW@http://nsjg.budakeszi.hu/
DTSTAMP:20260419T115857Z
CATEGORIES:Esemény
DTSTART:20260113T133000Z
DTEND:20260113T143000Z
SUMMARY:Bolyai matematika csapatverseny
URL:https://nsjg.budakeszi.hu/87-esemeny/10-bolyai-mat-csapatverseny-neveze
 si-hatarido
END:VEVENT
BEGIN:VEVENT
UID:20201025T210000CET-4679kbkfgM@http://nsjg.budakeszi.hu/
DTSTAMP:20260419T115857Z
CATEGORIES:Esemény
DESCRIPTION:<p><span id='page54R_mcid61' class='markedContent'><span dir='l
 tr' role='presentation'>Az ünnepi könyhét lezárása</span></span><span id='
 page54R_mcid62' class='markedContent'><span dir='ltr' role='presentation'>
 <br /></span></span></p>
DTSTART:20260122T080000Z
DTEND:20260122T080000Z
SUMMARY:A magyar kultúra napja
URL:https://nsjg.budakeszi.hu/120-okoprogram/53-a-magyar-kultura-napja
X-ALT-DESC;FMTTYPE=TEXT/HTML:<p><span id='page54R_mcid61' class='markedCont
 ent'><span dir='ltr' role='presentation'>Az ünnepi könyhét lezárása</span>
 </span><span id='page54R_mcid62' class='markedContent'><span dir='ltr' rol
 e='presentation'><br /></span></span></p>
END:VEVENT
BEGIN:VEVENT
UID:20201025T210000CET-984676Fmbd@http://nsjg.budakeszi.hu/
DTSTAMP:20260419T115857Z
CATEGORIES:Esemény
DTSTART:20260123T150000Z
DTEND:20260123T150000Z
SUMMARY:Első félév vége
URL:https://nsjg.budakeszi.hu/87-esemeny/52-elso-felev-vege
END:VEVENT
BEGIN:VEVENT
UID:20201025T210000CET-4548UsRuVS@http://nsjg.budakeszi.hu/
DTSTAMP:20260419T115857Z
CATEGORIES:Érettségi/8-os felvételi/egyéb vizsgák
DESCRIPTION:<p>10:00-10:45: magyar nyelv</p>\n<p>11:00-11:45: matematika</p
 >
DTSTART:20260124T100000Z
DTEND:20260124T120000Z
SUMMARY:Egységes írásbeli felvételi (8. osztály)
URL:https://nsjg.budakeszi.hu/124-erettsegi-8-os-felveteli-egyeb-vizsgak/54
 -egyseges-irasbeli-felveteli-8-osztaly
X-ALT-DESC;FMTTYPE=TEXT/HTML:<p>10:00-10:45: magyar nyelv</p>\n<p>11:00-11:
 45: matematika</p>
END:VEVENT
BEGIN:VEVENT
UID:20201025T220000CET-13250HBVxB@http://nsjg.budakeszi.hu/
DTSTAMP:20260419T115857Z
CATEGORIES:Érettségi/8-os felvételi/egyéb vizsgák
DESCRIPTION:<p>Az írásbeli dolgozatok megtekintése\, az értékelő lapok átad
 ása.</p>
DTSTART:20260130T080000Z
DTEND:20260130T160000Z
SUMMARY:Az írásbeli dolgozatok megtekintése
URL:https://nsjg.budakeszi.hu/124-erettsegi-8-os-felveteli-egyeb-vizsgak/58
 -az-irasbeli-dolgozatok-megtekintese
X-ALT-DESC;FMTTYPE=TEXT/HTML:<p>Az írásbeli dolgozatok megtekintése\, az ér
 tékelő lapok átadása.</p>
END:VEVENT
END:VCALENDAR
