BEGIN:VCALENDAR
VERSION:2.0
PRODID:-//https://nsjg.budakeszi.hu//NONSGML kigkonsult.se iCalcreator 2.29
 .14//
CALSCALE:GREGORIAN
METHOD:PUBLISH
UID:61b3b198-b805-40de-95f4-5cd913d4f6df
X-WR-CALNAME:JCal Pro Calendar
X-WR-CALDESC:Your online events calendar
X-WR-TIMEZONE:Europe/Budapest
BEGIN:VTIMEZONE
TZID:Europe/Budapest
BEGIN:STANDARD
TZNAME:CET
DTSTART:20251026T030000
TZOFFSETFROM:+0200
TZOFFSETTO:+0100
RDATE:20261025T030000
END:STANDARD
BEGIN:DAYLIGHT
TZNAME:CEST
DTSTART:20260329T020000
TZOFFSETFROM:+0100
TZOFFSETTO:+0200
RDATE:20270328T020000
END:DAYLIGHT
END:VTIMEZONE
BEGIN:VTIMEZONE
TZID:UTC
END:VTIMEZONE
BEGIN:VEVENT
UID:20201026T000000CET-7651igFzs2@http://nsjg.budakeszi.hu/
DTSTAMP:20260423T114748Z
CATEGORIES:Érettségi/8-os felvételi/egyéb vizsgák
DTSTART:20260519T080000Z
DTEND:20260519T103000Z
SUMMARY:Középszintű írásbeli érettségi: fizika
URL:https://nsjg.budakeszi.hu/124-erettsegi-8-os-felveteli-egyeb-vizsgak/11
 4-kozepszintu-irasbeli-erettsegi-fizika
END:VEVENT
BEGIN:VEVENT
UID:20201026T000000CET-38904JhUtg@http://nsjg.budakeszi.hu/
DTSTAMP:20260423T114748Z
CATEGORIES:Érettségi/8-os felvételi/egyéb vizsgák
DTSTART:20260521T080000Z
DTEND:20260521T110000Z
SUMMARY:Középszintű írásbeli érettségi: spanyol nyelv
URL:https://nsjg.budakeszi.hu/124-erettsegi-8-os-felveteli-egyeb-vizsgak/11
 6-kozepszintu-irasbeli-erettsegi-spanyol-nyelv
END:VEVENT
BEGIN:VEVENT
UID:20240524T000000CEST-8142HUFT43@https://nsjg.budakeszi.hu/
DTSTAMP:20260423T114748Z
CATEGORIES:Érettségi/8-os felvételi/egyéb vizsgák
DTSTART;TZID=Europe/Budapest:20260522T000000
DTEND;TZID=Europe/Budapest:20260522T000000
SUMMARY:Testnevelés próbaérettségi
URL:https://nsjg.budakeszi.hu/124-erettsegi-8-os-felveteli-egyeb-vizsgak/19
 3-testneveles-probaerettsegi
END:VEVENT
END:VCALENDAR
