BEGIN:VCALENDAR
VERSION:2.0
PRODID:-//https://nsjg.budakeszi.hu//NONSGML kigkonsult.se iCalcreator 2.29
 .14//
CALSCALE:GREGORIAN
METHOD:PUBLISH
UID:4d7a17d1-62a5-4386-82d2-8b1e6fa84874
X-WR-CALNAME:JCal Pro Calendar
X-WR-CALDESC:Your online events calendar
X-WR-TIMEZONE:Europe/Budapest
BEGIN:VTIMEZONE
TZID:Europe/Budapest
BEGIN:STANDARD
TZNAME:CET
DTSTART:20251026T030000
TZOFFSETFROM:+0200
TZOFFSETTO:+0100
RDATE:20261025T030000
END:STANDARD
BEGIN:DAYLIGHT
TZNAME:CEST
DTSTART:20260329T020000
TZOFFSETFROM:+0100
TZOFFSETTO:+0200
RDATE:20270328T020000
END:DAYLIGHT
END:VTIMEZONE
BEGIN:VTIMEZONE
TZID:UTC
END:VTIMEZONE
BEGIN:VEVENT
UID:20201025T230000CET-58404sVMPd@http://nsjg.budakeszi.hu/
DTSTAMP:20260423T101727Z
CATEGORIES:Ökoprogram
DESCRIPTION:<p>Osztályvállalás: 9B</p>
DTSTART:20260511T080000Z
DTEND:20260511T080000Z
SUMMARY:Madarak és fák napja
URL:https://nsjg.budakeszi.hu/120-okoprogram/97-madarak-es-fak-napja
X-ALT-DESC;FMTTYPE=TEXT/HTML:<p>Osztályvállalás: 9B</p>
END:VEVENT
BEGIN:VEVENT
UID:20201026T000000CET-06941uUzU7@http://nsjg.budakeszi.hu/
DTSTAMP:20260423T101727Z
CATEGORIES:Érettségi/8-os felvételi/egyéb vizsgák
DTSTART:20260511T080000Z
DTEND:20260511T100000Z
SUMMARY:Középszintű írásbeli érettségi: digitális kultúra
URL:https://nsjg.budakeszi.hu/124-erettsegi-8-os-felveteli-egyeb-vizsgak/11
 3-kozepszintu-irasbeli-erettsegi-informatika
END:VEVENT
BEGIN:VEVENT
UID:20201026T000000CET-66064Xdlt7@http://nsjg.budakeszi.hu/
DTSTAMP:20260423T101727Z
CATEGORIES:Érettségi/8-os felvételi/egyéb vizsgák
DTSTART:20260512T080000Z
DTEND:20260512T100000Z
SUMMARY:Középszintű írásbeli érettségi: biológia
URL:https://nsjg.budakeszi.hu/124-erettsegi-8-os-felveteli-egyeb-vizsgak/11
 1-kozepszintu-irasbeli-erettsegi-biologia
END:VEVENT
BEGIN:VEVENT
UID:20201026T000000CET-7136GW6Gtw@http://nsjg.budakeszi.hu/
DTSTAMP:20260423T101727Z
CATEGORIES:Érettségi/8-os felvételi/egyéb vizsgák
DTSTART:20260513T140000Z
DTEND:20260513T160000Z
SUMMARY:Középszintű írásbeli érettségi: Vizuális kultúra
URL:https://nsjg.budakeszi.hu/124-erettsegi-8-os-felveteli-egyeb-vizsgak/11
 5-kozepszintu-irasbeli-erettsegi-rajz-es-vizualis-kultura
END:VEVENT
BEGIN:VEVENT
UID:20201025T230000CET-3484vW7uaI@http://nsjg.budakeszi.hu/
DTSTAMP:20260423T101727Z
CATEGORIES:Érettségi/8-os felvételi/egyéb vizsgák
DTSTART:20260514T140000Z
DTEND:20260514T160000Z
SUMMARY:Középszintű írásbeli érettségi: földrajz
URL:https://nsjg.budakeszi.hu/124-erettsegi-8-os-felveteli-egyeb-vizsgak/11
 0-kozepszintu-irasbeli-erettsegi-foldrajz
END:VEVENT
END:VCALENDAR
