BEGIN:VCALENDAR
VERSION:2.0
PRODID:-//https://nsjg.budakeszi.hu//NONSGML kigkonsult.se iCalcreator 2.29
 .14//
CALSCALE:GREGORIAN
METHOD:PUBLISH
UID:8789c4fc-a882-4ec4-be77-f7e45df8b3f1
X-WR-CALNAME:JCal Pro Calendar
X-WR-CALDESC:Your online events calendar
X-WR-TIMEZONE:Europe/Budapest
BEGIN:VTIMEZONE
TZID:Europe/Budapest
BEGIN:STANDARD
TZNAME:CET
DTSTART:20251026T030000
TZOFFSETFROM:+0200
TZOFFSETTO:+0100
RDATE:20261025T030000
END:STANDARD
BEGIN:DAYLIGHT
TZNAME:CEST
DTSTART:20260329T020000
TZOFFSETFROM:+0100
TZOFFSETTO:+0200
RDATE:20270328T020000
END:DAYLIGHT
END:VTIMEZONE
BEGIN:VTIMEZONE
TZID:UTC
END:VTIMEZONE
BEGIN:VEVENT
UID:20201025T220000CET-3799H8PrMA@http://nsjg.budakeszi.hu/
DTSTAMP:20260425T205041Z
CATEGORIES:Esemény
DTSTART:20260302T080000Z
DTEND:20260306T230000Z
SUMMARY:Pénz7 - Pénzügyi tudatosság és gazdálkodás témahét
URL:https://nsjg.budakeszi.hu/87-esemeny/69-penz7-penzugyi-temahet
END:VEVENT
BEGIN:VEVENT
UID:20201025T220000CET-4700E6JErk@http://nsjg.budakeszi.hu/
DTSTAMP:20260425T205041Z
CATEGORIES:Fogadóóra/szülői értekezlet
DTSTART:20260302T173000Z
DTEND:20260302T183000Z
SUMMARY:Fogadóóra
URL:https://nsjg.budakeszi.hu/122-fogadoora-szuloi-ertekezlet/81-fogadoora
END:VEVENT
END:VCALENDAR
