BEGIN:VCALENDAR
VERSION:2.0
PRODID:-//https://nsjg.budakeszi.hu//NONSGML kigkonsult.se iCalcreator 2.29
 .14//
CALSCALE:GREGORIAN
METHOD:PUBLISH
UID:b8d26a34-83d7-4ebb-95a8-c7d2d50cf47a
X-WR-CALNAME:JCal Pro Calendar
X-WR-CALDESC:Your online events calendar
X-WR-TIMEZONE:Europe/Budapest
BEGIN:VTIMEZONE
TZID:Europe/Budapest
BEGIN:STANDARD
TZNAME:CET
DTSTART:20251026T030000
TZOFFSETFROM:+0200
TZOFFSETTO:+0100
RDATE:20261025T030000
END:STANDARD
BEGIN:DAYLIGHT
TZNAME:CEST
DTSTART:20260329T020000
TZOFFSETFROM:+0100
TZOFFSETTO:+0200
RDATE:20270328T020000
END:DAYLIGHT
END:VTIMEZONE
BEGIN:VEVENT
UID:20260218T020000CET-8463UjTNe1@https://nsjg.budakeszi.hu/
DTSTAMP:20260426T001918Z
CATEGORIES:Szünet
DTSTART;TZID=Europe/Budapest:20260218T020000
DTEND;TZID=Europe/Budapest:20260218T030000
SUMMARY:Tanításmentes munkanap - tankerületi szakmai nap
URL:https://nsjg.budakeszi.hu/118-szunet/202-tanitasmentes-munkanap-tankeru
 leti-szakmai-nap
END:VEVENT
BEGIN:VEVENT
UID:20240222T000000CET-50265uP1ZR@https://nsjg.budakeszi.hu/
DTSTAMP:20260426T001918Z
CATEGORIES:Esemény
DTSTART;TZID=Europe/Budapest:20260220T000000
DTEND;TZID=Europe/Budapest:20260220T235959
SUMMARY:Parasport-nap
URL:https://nsjg.budakeszi.hu/87-esemeny/190-parasport-nap
END:VEVENT
END:VCALENDAR
