BEGIN:VCALENDAR
VERSION:2.0
PRODID:-//https://nsjg.budakeszi.hu//NONSGML kigkonsult.se iCalcreator 2.29
 .14//
CALSCALE:GREGORIAN
METHOD:PUBLISH
UID:e692323a-cf1d-4d9d-a388-d1bbad53503b
X-WR-CALNAME:JCal Pro Calendar
X-WR-CALDESC:Your online events calendar
X-WR-TIMEZONE:Europe/Budapest
BEGIN:VTIMEZONE
TZID:Europe/Budapest
BEGIN:STANDARD
TZNAME:CET
DTSTART:20251026T030000
TZOFFSETFROM:+0200
TZOFFSETTO:+0100
RDATE:20261025T030000
END:STANDARD
BEGIN:DAYLIGHT
TZNAME:CEST
DTSTART:20260329T020000
TZOFFSETFROM:+0100
TZOFFSETTO:+0200
RDATE:20270328T020000
END:DAYLIGHT
END:VTIMEZONE
BEGIN:VTIMEZONE
TZID:UTC
END:VTIMEZONE
BEGIN:VEVENT
UID:20201025T210000CET-8151O0tuTU@http://nsjg.budakeszi.hu/
DTSTAMP:20260419T213949Z
CATEGORIES:Esemény
DTSTART:20260504T100000Z
DTEND:20260508T140000Z
SUMMARY:Digitális oktatás
URL:https://nsjg.budakeszi.hu/87-esemeny/50-digitalis-oktatas
END:VEVENT
BEGIN:VEVENT
UID:20201025T230000CET-9704XjXL8D@http://nsjg.budakeszi.hu/
DTSTAMP:20260419T213949Z
CATEGORIES:Érettségi/8-os felvételi/egyéb vizsgák
DTSTART:20260506T000000Z
DTEND:20260508T180000Z
SUMMARY:Kisérettségi: magyar és történelem 11. évfolyam
URL:https://nsjg.budakeszi.hu/124-erettsegi-8-os-felveteli-egyeb-vizsgak/99
 -kiserettsegi-magyar-es-tortenelem
END:VEVENT
BEGIN:VEVENT
UID:20201025T230000CET-5517LVtlTV@http://nsjg.budakeszi.hu/
DTSTAMP:20260419T213949Z
CATEGORIES:Érettségi/8-os felvételi/egyéb vizsgák
DTSTART:20260507T090000Z
DTEND:20260507T120000Z
SUMMARY:Középszintű írásbeli érettségi: angol nyelv
URL:https://nsjg.budakeszi.hu/124-erettsegi-8-os-felveteli-egyeb-vizsgak/10
 7-kozepszintu-irasbeli-erettsegi-angol-nyelv
END:VEVENT
END:VCALENDAR
