BEGIN:VCALENDAR
VERSION:2.0
PRODID:-//https://nsjg.budakeszi.hu//NONSGML kigkonsult.se iCalcreator 2.29
 .14//
CALSCALE:GREGORIAN
METHOD:PUBLISH
UID:dd43e9d7-14bd-4845-860e-33a3365a5e34
X-WR-CALNAME:JCal Pro Calendar
X-WR-CALDESC:Your online events calendar
X-WR-TIMEZONE:Europe/Budapest
BEGIN:VTIMEZONE
TZID:Europe/Budapest
BEGIN:STANDARD
TZNAME:CET
DTSTART:20251026T030000
TZOFFSETFROM:+0200
TZOFFSETTO:+0100
RDATE:20261025T030000
END:STANDARD
BEGIN:DAYLIGHT
TZNAME:CEST
DTSTART:20260329T020000
TZOFFSETFROM:+0100
TZOFFSETTO:+0200
RDATE:20270328T020000
END:DAYLIGHT
END:VTIMEZONE
BEGIN:VTIMEZONE
TZID:UTC
END:VTIMEZONE
BEGIN:VEVENT
UID:20201025T220000CET-7163wTfbm1@http://nsjg.budakeszi.hu/
DTSTAMP:20260419T181852Z
CATEGORIES:Esemény
DTSTART:20260323T080000Z
DTEND:20260327T150000Z
SUMMARY:Digitális témahét
URL:https://nsjg.budakeszi.hu/87-esemeny/80-digitalis-temahet
END:VEVENT
END:VCALENDAR
